BEGIN:VCALENDAR
VERSION:2.0
METHOD:PUBLISH
PRODID:-//Accessible Web Design//My Calendar//http://www.joedolson.com//v//EN';
BEGIN:VEVENT
UID:68-52
LOCATION:Metro Center 375 Beale Street  San Francisco California 94105
SUMMARY:BCDC Hybrid Commission Meeting Cancelled
DTSTAMP:20230202T130000
ORGANIZER;CN=CaliforniaGirl:MAILTO:Marlyse@Hansemann.com
DTSTART:20230202T130000
DTEND:20230202T170000
CATEGORIES:San Francisco Bay Conservation &amp; Development Commission
URL;VALUE=URI:https://2pal.com/mc-events/bcdc-hybrid-commission-meeting-cancelled/?mc_id=68
DESCRIPTION:Supplemental Materials | Listing of Pending Administrative MattersThe February 2, 2023 Commission Meeting has been cancelled.
END:VEVENT
END:VCALENDAR