BEGIN:VCALENDAR
VERSION:2.0
METHOD:PUBLISH
PRODID:-//Accessible Web Design//My Calendar//http://www.joedolson.com//v//EN';
BEGIN:VEVENT
UID:116-87
LOCATION:Metro Center 375 Beale Street  San Francisco
SUMMARY:BCDC Regular Hybrid Commission Meeting
DTSTAMP:20230601T130000
ORGANIZER;CN=CaliforniaGirl:MAILTO:Marlyse@Hansemann.com
DTSTART:20230601T130000
DTEND:20230601T170000
CATEGORIES:San Francisco Bay Conservation &amp; Development Commission
URL;VALUE=URI:https://2pal.com/mc-events/bcdc-regular-hybrid-commission-meeting-6/?mc_id=116
DESCRIPTION:Agenda &amp; Meeting Materials | Supplemental Materials | ZOOM | Live Webcast | Commission | Past Meetings
END:VEVENT
END:VCALENDAR