BEGIN:VCALENDAR
VERSION:2.0
METHOD:PUBLISH
PRODID:-//Accessible Web Design//My Calendar//http://www.joedolson.com//v//EN';
BEGIN:VEVENT
UID:24-15
LOCATION:La Nueva Perla 222 Lux Avenue  South San Francisco California 94080
SUMMARY:*Urgent* Meeting this Tuesday, 9/13 at La Nueva Perla (222 Lux Ave., South City)
DTSTAMP:20220913T190000
ORGANIZER;CN=CaliforniaGirl:MAILTO:Marlyse@Hansemann.com
DTSTART:20220913T190000
DTEND:20220913T200000
CATEGORIES:General
URL;VALUE=URI:https://2pal.com/mc-events/urgent-meeting-this-tuesday-9-13-at-la-nueva-perla-222-lux-ave-south-city/?mc_id=24
DESCRIPTION:IMPORTANT: If you haven't come to a meeting before, please come to this one as now is the time to engage more directly and actively and to talk over strategies from here on in. We will be meeting Tues, 9/13 at La Nueva Perla (222 Lux Ave.) at 7 pm.
END:VEVENT
END:VCALENDAR