BEGIN:VCALENDAR
VERSION:2.0
METHOD:PUBLISH
PRODID:-//Accessible Web Design//My Calendar//http://www.joedolson.com//v//EN';
BEGIN:VEVENT
UID:72-55
LOCATION:Bay View Boat Club 489 Terry A Francois Blvd  San Francisco California 94158
SUMMARY:Liveaboards, United! Hybrid Meeting at the Bay View Boat Club
DTSTAMP:20230223T190000
ORGANIZER;CN=CaliforniaGirl:MAILTO:Marlyse@Hansemann.com
DTSTART:20230223T190000
DTEND:20230223T203000
CATEGORIES:Liveaboards, United!
URL;VALUE=URI:https://2pal.com/mc-events/liveaboards-united-hybrid-meeting-at-the-bay-view-boat-club-2/?mc_id=72
DESCRIPTION:Join Zoom Meetinghttps://us06web.zoom.us/j/84719065573?pwd=K0wzL1hGWmNrWlVkTURMb3phb2pNUT09Meeting ID: 847 1906 5573Passcode: 163490
END:VEVENT
END:VCALENDAR